BEGIN:VCALENDAR
VERSION:2.0
PRODID:icalendar-ruby
CALSCALE:GREGORIAN
METHOD:PUBLISH
BEGIN:VEVENT
DTSTAMP:20260425T145833Z
UID:23-2154129@epc50.org
DTSTART:20260816T130000Z
DTEND:20260816T141500Z
CLASS:PUBLIC
CREATED:20260425T092923
DESCRIPTION:
LAST-MODIFIED:20260425T092923
LOCATION:50 East Main St Middletown NY 10940
SUMMARY:Escuela Dominical
URL;VALUE=URI:https://www.epc50.org/events/escuela-dominical/2026-08-16
ATTACH;FILENAME=672171L.jpg;FMTTYPE=image/jpeg:https://dq5pwpg1q8ru0.cloudf
 ront.net/2023/09/03/15/08/43/c6d1c3ea-5041-419e-aa0a-bd1fdc0d40aa/672171L.
 jpg
ATTACH;FILENAME=661161L.jpg;FMTTYPE=image/jpeg:https://dq5pwpg1q8ru0.cloudf
 ront.net/2023/09/03/15/12/08/68397d26-64e9-4896-9839-4f04dda3275c/661161L.
 jpg
ATTACH;FILENAME=651151L.jpg;FMTTYPE=image/jpeg:https://dq5pwpg1q8ru0.cloudf
 ront.net/2023/09/03/15/12/08/ace93b68-aed1-4539-94f0-52013c0c097c/651151L.
 jpg
ATTACH;FILENAME=631142L.jpg;FMTTYPE=image/jpeg:https://dq5pwpg1q8ru0.cloudf
 ront.net/2023/09/03/15/12/09/50289f4c-fc76-4a7e-8dd0-439de53136f2/631142L.
 jpg
ATTACH;FILENAME=621121L.jpg;FMTTYPE=image/jpeg:https://dq5pwpg1q8ru0.cloudf
 ront.net/2023/09/03/15/12/09/980f5bc0-3aba-438c-b981-3b57c3e0f661/621121L.
 jpg
ATTACH;FILENAME=601111M.jpg;FMTTYPE=image/jpeg:https://dq5pwpg1q8ru0.cloudf
 ront.net/2023/09/03/15/12/09/5896cd10-8491-4494-b505-7fe4b1836808/601111M.
 jpg
END:VEVENT
END:VCALENDAR
